BEGIN:VCALENDAR
VERSION:2.0
PRODID:icalendar-ruby
CALSCALE:GREGORIAN
BEGIN:VEVENT
DTSTAMP:20210122T071301Z
UID:dcc0d54b-6557-4baf-ba15-d70b7a5edfb4
DTSTART;VALUE=DATE:20210128
DESCRIPTION:Property ID# 499635\, Time: 1:00PM
SUMMARY:Auction for 6J/164 The Terrace
END:VEVENT
END:VCALENDAR
