BEGIN:VCALENDAR
VERSION:2.0
PRODID:icalendar-ruby
CALSCALE:GREGORIAN
BEGIN:VEVENT
DTSTAMP:20210122T071306Z
UID:eb578967-45ab-407e-99ea-f6119ad10907
DTSTART;TZID=Pacific/Auckland:20210124T130000
DTEND;TZID=Pacific/Auckland:20210124T133000
DESCRIPTION:Property ID# 499032
SUMMARY:Openhome for 25 Montgomery Avenue
END:VEVENT
END:VCALENDAR
