BEGIN:VCALENDAR
VERSION:2.0
PRODID:icalendar-ruby
CALSCALE:GREGORIAN
BEGIN:VEVENT
DTSTAMP:20210122T071310Z
UID:51ca566f-78d2-4b5a-8534-5d5e546fdbbe
DTSTART;TZID=Pacific/Auckland:20210124T110000
DTEND;TZID=Pacific/Auckland:20210124T113000
DESCRIPTION:Property ID# 499633
SUMMARY:Openhome for 111 Allington Road
END:VEVENT
END:VCALENDAR
