BEGIN:VCALENDAR
VERSION:2.0
PRODID:icalendar-ruby
CALSCALE:GREGORIAN
BEGIN:VEVENT
DTSTAMP:20260419T153918Z
UID:a6c6e721-921b-4b70-8da8-34363ab5f571
DTSTART;VALUE=DATE:20190913
DESCRIPTION:Property ID# 460548\, Locatoin: Harcourts Auction Rooms 54-56 C
 ambridge Terrace\, Te Aro\, Time: 12:00PM
SUMMARY:Auction for 
END:VEVENT
END:VCALENDAR
