BEGIN:VCALENDAR
VERSION:2.0
PRODID:icalendar-ruby
CALSCALE:GREGORIAN
BEGIN:VEVENT
DTSTAMP:20260423T075708Z
UID:f6797584-38ea-481c-890e-3aaaabfccc19
DTSTART;VALUE=DATE:20200131
DESCRIPTION:Property ID# 469637\, Locatoin: Harcourts Wellington 54-56 Camb
 ridge Terrace\, Te Aro\, Wellington\, Time: 12:00PM
SUMMARY:Auction for 
END:VEVENT
END:VCALENDAR
