BEGIN:VCALENDAR
VERSION:2.0
PRODID:icalendar-ruby
CALSCALE:GREGORIAN
BEGIN:VEVENT
DTSTAMP:20260420T233427Z
UID:ce32b6ca-11f5-4223-89fe-1224c690965d
DTSTART;VALUE=DATE:20200312
DESCRIPTION:Property ID# 474736\, Locatoin: 136 Karori Road\, Karori\, Time
 : 12:00PM
SUMMARY:Auction for 
END:VEVENT
END:VCALENDAR
