BEGIN:VCALENDAR
VERSION:2.0
PRODID:icalendar-ruby
CALSCALE:GREGORIAN
BEGIN:VEVENT
DTSTAMP:20260419T153604Z
UID:49f2263e-dbda-4ebc-9127-bb646d5024fd
DTSTART;VALUE=DATE:20200820
DESCRIPTION:Property ID# 486026\, Locatoin: Harcourts Wellington City Offic
 e\, 54-56 Cambridge Terrace\, Wellington (not selling prior)\, Time: 12:00
 PM
SUMMARY:Auction for 
END:VEVENT
END:VCALENDAR
