BEGIN:VCALENDAR
VERSION:2.0
PRODID:icalendar-ruby
CALSCALE:GREGORIAN
BEGIN:VEVENT
DTSTAMP:20260420T232819Z
UID:4a94f431-bf20-41d2-b541-95c1d50f4cab
DTSTART;VALUE=DATE:20200902
DESCRIPTION:Property ID# 487307\, Locatoin: 136 Karori Rd\, Karori\, Time: 
 12:00PM
SUMMARY:Auction for 
END:VEVENT
END:VCALENDAR
