BEGIN:VCALENDAR
VERSION:2.0
PRODID:icalendar-ruby
CALSCALE:GREGORIAN
BEGIN:VEVENT
DTSTAMP:20260419T154712Z
UID:a6e1263f-2b36-4320-a9d7-17175fba0487
DTSTART;VALUE=DATE:20201127
DESCRIPTION:Property ID# 494963\, Locatoin: Harcourts Wellington City Offic
 e\, 54-56 Cambridge Terrace\, Wellington (not selling prior)\, Time: 12:00
 PM
SUMMARY:Auction for 
END:VEVENT
END:VCALENDAR
