BEGIN:VCALENDAR
VERSION:2.0
PRODID:icalendar-ruby
CALSCALE:GREGORIAN
BEGIN:VEVENT
DTSTAMP:20260421T000715Z
UID:7ebb6ce4-edfc-441b-b9bf-6104e75faf08
DTSTART;VALUE=DATE:20201202
DESCRIPTION:Property ID# 496074\, Locatoin: 136 Karori Road\, Karori\, Well
 ington 6012\, Time: 12:00PM
SUMMARY:Auction for 
END:VEVENT
END:VCALENDAR
