BEGIN:VCALENDAR
VERSION:2.0
PRODID:icalendar-ruby
CALSCALE:GREGORIAN
BEGIN:VEVENT
DTSTAMP:20260423T075546Z
UID:db0a6b2d-50a2-48ff-9064-215549ed2c8e
DTSTART;VALUE=DATE:20210212
DESCRIPTION:Property ID# 500169\, Locatoin: Harcourts Wellington City Offic
 e (unless sold prior)\, Time: 12:00PM
SUMMARY:Auction for 
END:VEVENT
END:VCALENDAR
