BEGIN:VCALENDAR
VERSION:2.0
PRODID:icalendar-ruby
CALSCALE:GREGORIAN
BEGIN:VEVENT
DTSTAMP:20260421T093504Z
UID:34a2c9a8-7c3b-4333-9399-713fb95bbb45
DTSTART;VALUE=DATE:20210224
DESCRIPTION:Property ID# 501596\, Locatoin: Harcourts Upper Hutt Office\, 1
 1 King Street\, Upper Hutt (unless sold prior)\, Time: 12:00PM
SUMMARY:Auction for 
END:VEVENT
END:VCALENDAR
