BEGIN:VCALENDAR
VERSION:2.0
PRODID:icalendar-ruby
CALSCALE:GREGORIAN
BEGIN:VEVENT
DTSTAMP:20260423T091803Z
UID:88c29ecb-d67a-4498-9a84-c1ef62cb75a0
DTSTART;VALUE=DATE:20210429
DESCRIPTION:Property ID# 506025\, Locatoin: Harcourts Wellington City Offic
 e\, 54-56 Cambridge Terrace (not selling prior)\, Time: 1:00PM
SUMMARY:Auction for 
END:VEVENT
END:VCALENDAR
