BEGIN:VCALENDAR
VERSION:2.0
PRODID:icalendar-ruby
CALSCALE:GREGORIAN
BEGIN:VEVENT
DTSTAMP:20260422T163022Z
UID:754715d0-0a39-4333-bedd-fa53866d0f1c
DTSTART;VALUE=DATE:20210422
DESCRIPTION:Property ID# 506145\, Locatoin: 1/77 Thorndon Quay Thorndon Wel
 lington at\, Time: 1:00PM
SUMMARY:Auction for 
END:VEVENT
END:VCALENDAR
