BEGIN:VCALENDAR
VERSION:2.0
PRODID:icalendar-ruby
CALSCALE:GREGORIAN
BEGIN:VEVENT
DTSTAMP:20260422T202300Z
UID:5b02cbf1-1eb4-4696-87fd-974197ac2761
DTSTART;VALUE=DATE:20210702
DESCRIPTION:Property ID# 511815\, Locatoin: 8 Kent Terrace\, Wellington\, T
 ime: 12:00PM
SUMMARY:Auction for 
END:VEVENT
END:VCALENDAR
