BEGIN:VCALENDAR
VERSION:2.0
PRODID:icalendar-ruby
CALSCALE:GREGORIAN
BEGIN:VEVENT
DTSTAMP:20260423T050502Z
UID:fd1cdd9c-7590-4fc1-8417-871cffa8847f
DTSTART;VALUE=DATE:20210709
DESCRIPTION:Property ID# 511827\, Locatoin: Harcourts\, Wellington City Off
 ice\, 54 Cambridge Terrace (unless sold prior)\, Time: 12:00PM
SUMMARY:Auction for 
END:VEVENT
END:VCALENDAR
