BEGIN:VCALENDAR
VERSION:2.0
PRODID:icalendar-ruby
CALSCALE:GREGORIAN
BEGIN:VEVENT
DTSTAMP:20260424T072826Z
UID:c4555fce-8882-4edb-bb98-de01e12015b9
DTSTART;VALUE=DATE:20210701
DESCRIPTION:Property ID# 512174\, Locatoin: Level 1\, 77 Thorndon Quay\, TH
 ORNDON\, Time: 12:00PM
SUMMARY:Auction for 
END:VEVENT
END:VCALENDAR
