BEGIN:VCALENDAR
VERSION:2.0
PRODID:icalendar-ruby
CALSCALE:GREGORIAN
BEGIN:VEVENT
DTSTAMP:20260419T191304Z
UID:000ad077-42e2-42e1-9732-122606980c81
DTSTART;VALUE=DATE:20210728
DESCRIPTION:Property ID# 513853\, Locatoin: Harcourts Building - 11 King St
 reet - Upper Hutt\, Time: 3:00PM
SUMMARY:Auction for 
END:VEVENT
END:VCALENDAR
