BEGIN:VCALENDAR
VERSION:2.0
PRODID:icalendar-ruby
CALSCALE:GREGORIAN
BEGIN:VEVENT
DTSTAMP:20260419T191716Z
UID:30fcfd08-24a4-45fc-823f-f5fe52c6ccd9
DTSTART;VALUE=DATE:20211020
DESCRIPTION:Property ID# 518859\, Time: 4:00PM
SUMMARY:Auction for 
END:VEVENT
END:VCALENDAR
