BEGIN:VCALENDAR
VERSION:2.0
PRODID:icalendar-ruby
CALSCALE:GREGORIAN
BEGIN:VEVENT
DTSTAMP:20260425T015417Z
UID:a12f585f-3c61-4740-863d-305484e18fd6
DTSTART;VALUE=DATE:20211103
DESCRIPTION:Property ID# 519754\, Locatoin: level 1\, 77 Thorndon Quay\, Pi
 pitea\, Wellington\, Time: 2:00PM
SUMMARY:Auction for 
END:VEVENT
END:VCALENDAR
