BEGIN:VCALENDAR
VERSION:2.0
PRODID:icalendar-ruby
CALSCALE:GREGORIAN
BEGIN:VEVENT
DTSTAMP:20260420T202110Z
UID:5d57d279-bc78-4bf3-80c1-1abcdfe64392
DTSTART;VALUE=DATE:20211125
DESCRIPTION:Property ID# 522124\, Locatoin: 136 Karori Road\, Karori\, Well
 ington\, Time: 12:00PM
SUMMARY:Auction for 
END:VEVENT
END:VCALENDAR
