BEGIN:VCALENDAR
VERSION:2.0
PRODID:icalendar-ruby
CALSCALE:GREGORIAN
BEGIN:VEVENT
DTSTAMP:20260419T115820Z
UID:200fdd85-3e8f-42aa-aab8-871b0f1e3829
DTSTART;VALUE=DATE:20220204
DESCRIPTION:Property ID# 526175\, Locatoin: Harcourts Wellington City Offic
 e\, Time: 12:00PM
SUMMARY:Auction for 
END:VEVENT
END:VCALENDAR
