BEGIN:VCALENDAR
VERSION:2.0
PRODID:icalendar-ruby
CALSCALE:GREGORIAN
BEGIN:VEVENT
DTSTAMP:20260422T125059Z
UID:964f4e9a-e5e3-42e0-9ec6-325fd0fb70d4
DTSTART;VALUE=DATE:20221013
DESCRIPTION:Property ID# 544356\, Locatoin: 1/77 Thorndon Quay\, Time: 12:0
 0PM
SUMMARY:Auction for 
END:VEVENT
END:VCALENDAR
