BEGIN:VCALENDAR
VERSION:2.0
PRODID:icalendar-ruby
CALSCALE:GREGORIAN
BEGIN:VEVENT
DTSTAMP:20260425T214010Z
UID:ad032dd9-562d-4c64-8b15-9a9ca1a64a43
DTSTART;VALUE=DATE:20230531
DESCRIPTION:Property ID# 557173\, Locatoin: 1/77 Thorndon Quay\, Time: 12:0
 0PM
SUMMARY:Auction for 
END:VEVENT
END:VCALENDAR
