BEGIN:VCALENDAR
VERSION:2.0
PRODID:icalendar-ruby
CALSCALE:GREGORIAN
BEGIN:VEVENT
DTSTAMP:20260421T093309Z
UID:5624af9f-639f-493b-b3d9-0dacf42e5d4e
DTSTART;VALUE=DATE:20231005
DESCRIPTION:Property ID# 562579\, Locatoin: Johnsonville\, Time: 12:00PM
SUMMARY:Auction for 
END:VEVENT
END:VCALENDAR
