BEGIN:VCALENDAR
VERSION:2.0
PRODID:icalendar-ruby
CALSCALE:GREGORIAN
BEGIN:VEVENT
DTSTAMP:20260421T094605Z
UID:a0b43c38-17a6-481e-bbcc-eca1bf9e72c1
DTSTART;VALUE=DATE:20231207
DESCRIPTION:Property ID# 566542\, Locatoin: L1/77 Thorndon Quay\, Pipatea\,
  Time: 12:00PM
SUMMARY:Auction for 
END:VEVENT
END:VCALENDAR
