BEGIN:VCALENDAR
VERSION:2.0
PRODID:icalendar-ruby
CALSCALE:GREGORIAN
BEGIN:VEVENT
DTSTAMP:20260419T133406Z
UID:2e0353ea-4a78-4376-9e69-8865c61315b5
DTSTART;VALUE=DATE:20240314
DESCRIPTION:Property ID# 570758\, Locatoin: 8 Kent Terrace\, Wellington\, T
 ime: 12:00PM
SUMMARY:Auction for 
END:VEVENT
END:VCALENDAR
