BEGIN:VCALENDAR
VERSION:2.0
PRODID:icalendar-ruby
CALSCALE:GREGORIAN
BEGIN:VEVENT
DTSTAMP:20260423T154438Z
UID:87dc7695-62cd-4979-8cc4-ca4de11d06de
DTSTART;VALUE=DATE:20240405
DESCRIPTION:Property ID# 572291\, Locatoin: Level 1\, 77 Thorndon Quay\, Th
 orndon\, Time: 11:00AM
SUMMARY:Auction for 
END:VEVENT
END:VCALENDAR
