BEGIN:VCALENDAR
VERSION:2.0
PRODID:icalendar-ruby
CALSCALE:GREGORIAN
BEGIN:VEVENT
DTSTAMP:20260423T090800Z
UID:42fb5a89-2b20-41b7-b46a-93902ec9b707
DTSTART;VALUE=DATE:20241101
DESCRIPTION:Property ID# 582163\, Locatoin: Harcourts Wellington City Offic
 e\, 57 Vivian St Te Aro 6011\, Time: 12:00PM
SUMMARY:Auction for 
END:VEVENT
END:VCALENDAR
