BEGIN:VCALENDAR
VERSION:2.0
PRODID:icalendar-ruby
CALSCALE:GREGORIAN
BEGIN:VEVENT
DTSTAMP:20260423T110008Z
UID:95ae8f02-3cbd-4ae6-b69f-ec1bfda5de95
DTSTART;VALUE=DATE:20250130
DESCRIPTION:Property ID# 585508\, Locatoin: 66 Bay Rd\, Kilbirnie\, Welling
 ton\, Time: 1:00PM
SUMMARY:Auction for 
END:VEVENT
END:VCALENDAR
