BEGIN:VCALENDAR
VERSION:2.0
PRODID:icalendar-ruby
CALSCALE:GREGORIAN
BEGIN:VEVENT
DTSTAMP:20260421T120429Z
UID:50c2fbe7-697c-4292-9c60-c3f288563bc2
DTSTART;VALUE=DATE:20250227
DESCRIPTION:Property ID# 587648\, Locatoin: 30 By Rd\, Kilbirnie\, Time: 1:
 00PM
SUMMARY:Auction for 
END:VEVENT
END:VCALENDAR
