BEGIN:VCALENDAR
VERSION:2.0
PRODID:icalendar-ruby
CALSCALE:GREGORIAN
BEGIN:VEVENT
DTSTAMP:20260426T004722Z
UID:b219f0c9-a994-4768-aaf4-caf7fb5f1f4c
DTSTART;VALUE=DATE:20250815
DESCRIPTION:Property ID# 595009\, Locatoin: 8 Kent Terrace\, Wellington (wi
 ll not be sold prior)\, Time: 12:00PM
SUMMARY:Auction for 
END:VEVENT
END:VCALENDAR
