BEGIN:VCALENDAR
VERSION:2.0
PRODID:icalendar-ruby
CALSCALE:GREGORIAN
BEGIN:VEVENT
DTSTAMP:20260426T002546Z
UID:ccd0d64c-0112-43c1-aa3b-1e403a0779b3
DTSTART;VALUE=DATE:20250807
DESCRIPTION:Property ID# 595011\, Locatoin: 8 Kent Terrace\, Wellington (wi
 ll not be sold prior)\, Time: 12:00PM
SUMMARY:Auction for 
END:VEVENT
END:VCALENDAR
