BEGIN:VCALENDAR
VERSION:2.0
PRODID:icalendar-ruby
CALSCALE:GREGORIAN
BEGIN:VEVENT
DTSTAMP:20260426T001506Z
UID:322d10ce-8bec-4a08-9dd8-8d1694a0c93b
DTSTART;VALUE=DATE:20251016
DESCRIPTION:Property ID# 597827\, Locatoin: 8 Kent Terrace\, Wellington (wi
 ll not be sold prior)\, Time: 12:00PM
SUMMARY:Auction for 
END:VEVENT
END:VCALENDAR
