BEGIN:VCALENDAR
VERSION:2.0
PRODID:icalendar-ruby
CALSCALE:GREGORIAN
BEGIN:VEVENT
DTSTAMP:20260426T001948Z
UID:b2be5f6d-ec52-4b70-b118-31300f09da34
DTSTART;VALUE=DATE:20251023
DESCRIPTION:Property ID# 597828\, Locatoin: 8 Kent Terrace\, Wellington (wi
 ll not be sold prior)\, Time: 2:00PM
SUMMARY:Auction for 
END:VEVENT
END:VCALENDAR
