BEGIN:VCALENDAR
VERSION:2.0
PRODID:icalendar-ruby
CALSCALE:GREGORIAN
BEGIN:VEVENT
DTSTAMP:20260426T001619Z
UID:05da5e92-2fd5-4334-9869-dc6dc28dfa57
DTSTART;VALUE=DATE:20251121
DESCRIPTION:Property ID# 599624\, Locatoin: 8 Kent Terrace\, Wellington (wi
 ll not be sold prior)\, Time: 12:00PM
SUMMARY:Auction for 
END:VEVENT
END:VCALENDAR
