BEGIN:VCALENDAR
VERSION:2.0
PRODID:icalendar-ruby
CALSCALE:GREGORIAN
BEGIN:VEVENT
DTSTAMP:20260426T003138Z
UID:b3015c3d-2a36-440a-bb99-58a5771e445c
DTSTART;VALUE=DATE:20251127
DESCRIPTION:Property ID# 599929\, Locatoin: 8 Kent Terrace\, Wellington (wi
 ll not be sold prior)\, Time: 2:00PM
SUMMARY:Auction for 
END:VEVENT
END:VCALENDAR
