BEGIN:VCALENDAR
VERSION:2.0
PRODID:icalendar-ruby
CALSCALE:GREGORIAN
BEGIN:VEVENT
DTSTAMP:20260423T090702Z
UID:2c42190d-1c4b-45d9-aef7-46db138b7c1d
DTSTART;VALUE=DATE:20260220
DESCRIPTION:Property ID# 602134\, Locatoin: 8 Kent Terrace\, Wellington\, T
 ime: 12:00PM
SUMMARY:Auction for 
END:VEVENT
END:VCALENDAR
