BEGIN:VCALENDAR
VERSION:2.0
PRODID:icalendar-ruby
CALSCALE:GREGORIAN
BEGIN:VEVENT
DTSTAMP:20260423T110008Z
UID:30355242-2e90-4302-b29b-32a2d7c38380
DTSTART;VALUE=DATE:20260205
DESCRIPTION:Property ID# 602247\, Locatoin: 30 Bay Rd\, Kilbirnie\, Time: 1
 :00PM
SUMMARY:Auction for 
END:VEVENT
END:VCALENDAR
