BEGIN:VCALENDAR
VERSION:2.0
PRODID:icalendar-ruby
CALSCALE:GREGORIAN
BEGIN:VEVENT
DTSTAMP:20260426T001450Z
UID:a2801131-c208-4ad3-b7f2-7e3b422f7acc
DTSTART;VALUE=DATE:20260402
DESCRIPTION:Property ID# 605157\, Locatoin: 8 Kent Terrace\, Wellington (wi
 ll not be sold prior)\, Time: 12:00PM
SUMMARY:Auction for 
END:VEVENT
END:VCALENDAR
