BEGIN:VCALENDAR
VERSION:2.0
PRODID:icalendar-ruby
CALSCALE:GREGORIAN
BEGIN:VEVENT
DTSTAMP:20260426T001318Z
UID:48e185d6-e1cd-4331-8b2f-3e636e7272bc
DTSTART;VALUE=DATE:20260424
DESCRIPTION:Property ID# 605935\, Locatoin: 8 Kent Terrace\, Wellington (wi
 ll not be sold prior)\, Time: 12:00PM
SUMMARY:Auction for 77 Kaikoura Street
END:VEVENT
END:VCALENDAR
