BEGIN:VCALENDAR
VERSION:2.0
PRODID:icalendar-ruby
CALSCALE:GREGORIAN
BEGIN:VEVENT
DTSTAMP:20260423T105701Z
UID:22954d23-abfe-4c26-841a-1ee287f9abe1
DTSTART;VALUE=DATE:20260507
DESCRIPTION:Property ID# 606172\, Locatoin: 8 Kent Terrace\, Wellington\, T
 ime: 12:00PM
SUMMARY:Auction for 14/9 Ebor Street
END:VEVENT
END:VCALENDAR
