BEGIN:VCALENDAR
VERSION:2.0
PRODID:icalendar-ruby
CALSCALE:GREGORIAN
BEGIN:VEVENT
DTSTAMP:20260426T001630Z
UID:481e7390-3b30-4223-bc3f-7dc1fda4ab0f
DTSTART;VALUE=DATE:20260430
DESCRIPTION:Property ID# 606197\, Locatoin: 8 Kent Terrace\, Wellington (wi
 ll not be sold prior)\, Time: 1:00PM
SUMMARY:Auction for 493 Karaka Bay Road
END:VEVENT
END:VCALENDAR
