BEGIN:VCALENDAR
VERSION:2.0
PRODID:icalendar-ruby
CALSCALE:GREGORIAN
BEGIN:VEVENT
DTSTAMP:20260422T160904Z
UID:287a2a48-b126-4402-9a03-54a237193602
DTSTART;VALUE=DATE:20260515
DESCRIPTION:Property ID# 606960\, Locatoin: 1/77 Thorndon Quay Wellington\,
  Time: 11:00AM
SUMMARY:Auction for 111 Queens Drive
END:VEVENT
END:VCALENDAR
