BEGIN:VCALENDAR
VERSION:2.0
PRODID:icalendar-ruby
CALSCALE:GREGORIAN
BEGIN:VEVENT
DTSTAMP:20260426T002251Z
UID:47dd5a15-643e-445a-8212-a3bda10077d4
DTSTART;TZID=Pacific/Auckland:20260426T120000
DTEND;TZID=Pacific/Auckland:20260426T123000
DESCRIPTION:Property ID# 606197
SUMMARY:Openhome for 493 Karaka Bay Road
END:VEVENT
END:VCALENDAR
