BEGIN:VCALENDAR
VERSION:2.0
PRODID:icalendar-ruby
CALSCALE:GREGORIAN
BEGIN:VEVENT
DTSTAMP:20260426T001645Z
UID:35dda683-7a39-4b99-8663-0147115cfbe9
DTSTART;TZID=Pacific/Auckland:20260426T120000
DTEND;TZID=Pacific/Auckland:20260426T123000
DESCRIPTION:Property ID# 606482
SUMMARY:Openhome for 385 Karaka Bay Road
END:VEVENT
END:VCALENDAR
