BEGIN:VCALENDAR
VERSION:2.0
PRODID:icalendar-ruby
CALSCALE:GREGORIAN
BEGIN:VEVENT
DTSTAMP:20260426T002251Z
UID:9aecc73d-5d45-42ce-a005-b97ddee5d264
DTSTART;TZID=Pacific/Auckland:20260426T130000
DTEND;TZID=Pacific/Auckland:20260426T133000
DESCRIPTION:Property ID# 605143
SUMMARY:Openhome for 79 Ludlam Street
END:VEVENT
END:VCALENDAR
