BEGIN:VCALENDAR
VERSION:2.0
PRODID:icalendar-ruby
CALSCALE:GREGORIAN
BEGIN:VEVENT
DTSTAMP:20260422T161812Z
UID:5846627e-18f3-4dbd-b3d7-8abd70713d9c
DTSTART;TZID=Pacific/Auckland:20260426T123000
DTEND;TZID=Pacific/Auckland:20260426T130000
DESCRIPTION:Property ID# 606960
SUMMARY:Openhome for 111 Queens Drive
END:VEVENT
END:VCALENDAR
